BEGIN:VCALENDAR
VERSION:2.0
PRODID:-//Mystical Parade of Boo - ECPv6.15.20//NONSGML v1.0//EN
CALSCALE:GREGORIAN
METHOD:PUBLISH
X-WR-CALNAME:Mystical Parade of Boo
X-ORIGINAL-URL:https://mysticalparadeofboo.com
X-WR-CALDESC:Events for Mystical Parade of Boo
REFRESH-INTERVAL;VALUE=DURATION:PT1H
X-Robots-Tag:noindex
X-PUBLISHED-TTL:PT1H
BEGIN:VTIMEZONE
TZID:America/Chicago
BEGIN:DAYLIGHT
TZOFFSETFROM:-0600
TZOFFSETTO:-0500
TZNAME:CDT
DTSTART:20230312T080000
END:DAYLIGHT
BEGIN:STANDARD
TZOFFSETFROM:-0500
TZOFFSETTO:-0600
TZNAME:CST
DTSTART:20231105T070000
END:STANDARD
BEGIN:DAYLIGHT
TZOFFSETFROM:-0600
TZOFFSETTO:-0500
TZNAME:CDT
DTSTART:20240310T080000
END:DAYLIGHT
BEGIN:STANDARD
TZOFFSETFROM:-0500
TZOFFSETTO:-0600
TZNAME:CST
DTSTART:20241103T070000
END:STANDARD
BEGIN:DAYLIGHT
TZOFFSETFROM:-0600
TZOFFSETTO:-0500
TZNAME:CDT
DTSTART:20250309T080000
END:DAYLIGHT
BEGIN:STANDARD
TZOFFSETFROM:-0500
TZOFFSETTO:-0600
TZNAME:CST
DTSTART:20251102T070000
END:STANDARD
END:VTIMEZONE
BEGIN:VEVENT
DTSTART;TZID=America/Chicago:20241007T190000
DTEND;TZID=America/Chicago:20241007T210000
DTSTAMP:20260419T173140
CREATED:20240825T140508Z
LAST-MODIFIED:20240921T114908Z
UID:127-1728327600-1728334800@mysticalparadeofboo.com
SUMMARY:Drafts and Crafts at the Proletariat
DESCRIPTION:We’re back at collaborating with the MISFITS on another Drafts and Crafts! This time we will be painting mannequin body parts for the upcoming Misfits Ball.\n\nGreat Heights Brewing Company will be joining us with delicious brews and great company.\n\nDrafts and Crafts is held the first Monday of every month. Each month we pick a new craft with supplies provided and a different brewery comes out to join
URL:https://mysticalparadeofboo.com/event/drafts-and-crafts-at-the-proletariat/
LOCATION:The Proletariat\, 2221 Market St. Suite 100\, Galveston\, TX\, 77550\, United States
ATTACH;FMTTYPE=image/jpeg:https://mysticalparadeofboo.com/wp-content/uploads/2024/08/460486955_1018448640290622_6021337897263350669_n.jpg
END:VEVENT
END:VCALENDAR