BEGIN:VCALENDAR
VERSION:2.0
PRODID:-//Mystical Parade of Boo - ECPv6.15.20//NONSGML v1.0//EN
CALSCALE:GREGORIAN
METHOD:PUBLISH
X-ORIGINAL-URL:https://mysticalparadeofboo.com
X-WR-CALDESC:Events for Mystical Parade of Boo
REFRESH-INTERVAL;VALUE=DURATION:PT1H
X-Robots-Tag:noindex
X-PUBLISHED-TTL:PT1H
BEGIN:VTIMEZONE
TZID:America/Chicago
BEGIN:DAYLIGHT
TZOFFSETFROM:-0600
TZOFFSETTO:-0500
TZNAME:CDT
DTSTART:20230312T080000
END:DAYLIGHT
BEGIN:STANDARD
TZOFFSETFROM:-0500
TZOFFSETTO:-0600
TZNAME:CST
DTSTART:20231105T070000
END:STANDARD
BEGIN:DAYLIGHT
TZOFFSETFROM:-0600
TZOFFSETTO:-0500
TZNAME:CDT
DTSTART:20240310T080000
END:DAYLIGHT
BEGIN:STANDARD
TZOFFSETFROM:-0500
TZOFFSETTO:-0600
TZNAME:CST
DTSTART:20241103T070000
END:STANDARD
BEGIN:DAYLIGHT
TZOFFSETFROM:-0600
TZOFFSETTO:-0500
TZNAME:CDT
DTSTART:20250309T080000
END:DAYLIGHT
BEGIN:STANDARD
TZOFFSETFROM:-0500
TZOFFSETTO:-0600
TZNAME:CST
DTSTART:20251102T070000
END:STANDARD
END:VTIMEZONE
BEGIN:VEVENT
DTSTART;TZID=America/Chicago:20241012T180000
DTEND;TZID=America/Chicago:20241012T200000
DTSTAMP:20260419T173257
CREATED:20240823T204558Z
LAST-MODIFIED:20240912T185207Z
UID:78-1728756000-1728763200@mysticalparadeofboo.com
SUMMARY:Book Reading & Signing With Author Carrie Pulkinen
DESCRIPTION:In the spirit of Halloween and all things spooky\, join the Mystical Parade of Boo and USA Today Bestselling Author Carrie Pulkinen as she reads an excerpt from Chaos and Ash\, Book 1 of her popular Urban Fantasy series\, Fire Witches of Salem.\n\n\nCarrie will be signing books after the reading\, which you can preorder by visiting https://carriepulkinen.com/preorder/\n\n\nAbout the Fire Witches of Salem series:\n\nPeople love to claim they’re descendants of the witches they couldn’t burn. We actually are. My sisters and I are elemental witches\, and fire is ours to command. The veil between worlds is thin in Salem\, and we belong to the order of witches duty-bound to keep the monsters at bay.\nWe are the Veil Keepers…\n\nAbout the Author:\n\nCarrie Pulkinen is a USA Today bestselling author who has always been fascinated with things that go bump in the night. Of course\, when you grow up next door to a cemetery\, the dead (and the undead) are hard to ignore. Pair that with her passion for writing and her love of a good happily-ever-after\, and becoming an urban fantasy and paranormal romance author seems like the only logical career choice.\n\nBefore she decided to turn her love of the written word into a career\, Carrie spent the first part of her professional life as a high school journalism and yearbook teacher. She loves good chocolate and bad puns\, and in her free time\, she likes to dance\, drink wine\, and travel to interesting places.
URL:https://mysticalparadeofboo.com/event/book-reading-signing-with-carrie-pulkinen/
LOCATION:The Proletariat\, 2221 Market St. Suite 100\, Galveston\, TX\, 77550\, United States
ATTACH;FMTTYPE=image/jpeg:https://mysticalparadeofboo.com/wp-content/uploads/2024/08/Boo-Book-Signing-Instagram-Post2.jpg
END:VEVENT
END:VCALENDAR