BEGIN:VCALENDAR
VERSION:2.0
PRODID:-//Mystical Parade of Boo - ECPv6.15.20//NONSGML v1.0//EN
CALSCALE:GREGORIAN
METHOD:PUBLISH
X-WR-CALNAME:Mystical Parade of Boo
X-ORIGINAL-URL:https://mysticalparadeofboo.com
X-WR-CALDESC:Events for Mystical Parade of Boo
REFRESH-INTERVAL;VALUE=DURATION:PT1H
X-Robots-Tag:noindex
X-PUBLISHED-TTL:PT1H
BEGIN:VTIMEZONE
TZID:America/Chicago
BEGIN:DAYLIGHT
TZOFFSETFROM:-0600
TZOFFSETTO:-0500
TZNAME:CDT
DTSTART:20230312T080000
END:DAYLIGHT
BEGIN:STANDARD
TZOFFSETFROM:-0500
TZOFFSETTO:-0600
TZNAME:CST
DTSTART:20231105T070000
END:STANDARD
BEGIN:DAYLIGHT
TZOFFSETFROM:-0600
TZOFFSETTO:-0500
TZNAME:CDT
DTSTART:20240310T080000
END:DAYLIGHT
BEGIN:STANDARD
TZOFFSETFROM:-0500
TZOFFSETTO:-0600
TZNAME:CST
DTSTART:20241103T070000
END:STANDARD
BEGIN:DAYLIGHT
TZOFFSETFROM:-0600
TZOFFSETTO:-0500
TZNAME:CDT
DTSTART:20250309T080000
END:DAYLIGHT
BEGIN:STANDARD
TZOFFSETFROM:-0500
TZOFFSETTO:-0600
TZNAME:CST
DTSTART:20251102T070000
END:STANDARD
END:VTIMEZONE
BEGIN:VEVENT
DTSTART;TZID=America/Chicago:20241013T130000
DTEND;TZID=America/Chicago:20241013T160000
DTSTAMP:20260419T173159
CREATED:20240825T135229Z
LAST-MODIFIED:20240826T181529Z
UID:122-1728824400-1728835200@mysticalparadeofboo.com
SUMMARY:Mystical Parade of Boo Workshop Series 4
DESCRIPTION:The fourth in our five-workshop series. \nLearn from talented artists\, including a cinema makeup expert and a giant puppet-making master.In this workshop series\, you’ll create your very own unique\, handmade pieces\, and have the chance to work as a team to create a large paper-mâché puppet. The best part? You’ll get to carry your masterpiece in the Mystical Parade of Boo\, Galveston’s first Halloween parade\, on October 26\, 2024! \nCost is $50 for all five workshops.
URL:https://mysticalparadeofboo.com/event/mystical-parade-of-boo-workshop-series-4/
LOCATION:The Proletariat\, 2221 Market St. Suite 100\, Galveston\, TX\, 77550\, United States
ATTACH;FMTTYPE=image/jpeg:https://mysticalparadeofboo.com/wp-content/uploads/2024/08/GAC-Collab-1.jpg
ORGANIZER;CN="Galveston Arts Center":MAILTO:information@galvestonartscenter.org
END:VEVENT
END:VCALENDAR