BEGIN:VCALENDAR
VERSION:2.0
PRODID:-//Mystical Parade of Boo - ECPv6.15.20//NONSGML v1.0//EN
CALSCALE:GREGORIAN
METHOD:PUBLISH
X-WR-CALNAME:Mystical Parade of Boo
X-ORIGINAL-URL:https://mysticalparadeofboo.com
X-WR-CALDESC:Events for Mystical Parade of Boo
REFRESH-INTERVAL;VALUE=DURATION:PT1H
X-Robots-Tag:noindex
X-PUBLISHED-TTL:PT1H
BEGIN:VTIMEZONE
TZID:America/Chicago
BEGIN:DAYLIGHT
TZOFFSETFROM:-0600
TZOFFSETTO:-0500
TZNAME:CDT
DTSTART:20230312T080000
END:DAYLIGHT
BEGIN:STANDARD
TZOFFSETFROM:-0500
TZOFFSETTO:-0600
TZNAME:CST
DTSTART:20231105T070000
END:STANDARD
BEGIN:DAYLIGHT
TZOFFSETFROM:-0600
TZOFFSETTO:-0500
TZNAME:CDT
DTSTART:20240310T080000
END:DAYLIGHT
BEGIN:STANDARD
TZOFFSETFROM:-0500
TZOFFSETTO:-0600
TZNAME:CST
DTSTART:20241103T070000
END:STANDARD
BEGIN:DAYLIGHT
TZOFFSETFROM:-0600
TZOFFSETTO:-0500
TZNAME:CDT
DTSTART:20250309T080000
END:DAYLIGHT
BEGIN:STANDARD
TZOFFSETFROM:-0500
TZOFFSETTO:-0600
TZNAME:CST
DTSTART:20251102T070000
END:STANDARD
END:VTIMEZONE
BEGIN:VEVENT
DTSTART;VALUE=DATE:20241020
DTEND;VALUE=DATE:20241101
DTSTAMP:20260419T173026
CREATED:20240907T142215Z
LAST-MODIFIED:20240907T165100Z
UID:203-1729382400-1730419199@mysticalparadeofboo.com
SUMMARY:Spooky Galveston Ghost Tours
DESCRIPTION:Spooky Galveston is teaming up with the Mystical Parade of Boo to offer discounted tickets on their family-friendly walking tours! \nSave 15% with code GHOST at checkout. \nOctober 20th – 31st only. \nGet tickets here. \n 
URL:https://mysticalparadeofboo.com/event/spooky-galveston-ghost-tours/
LOCATION:Spooky Galveston\, 2328 Strand Suite 330\, Galveston\, TX\, 77550\, United States
ATTACH;FMTTYPE=image/jpeg:https://mysticalparadeofboo.com/wp-content/uploads/2024/09/spooky-galveston-event-1.jpg
END:VEVENT
BEGIN:VEVENT
DTSTART;TZID=America/Chicago:20241020T130000
DTEND;TZID=America/Chicago:20241020T160000
DTSTAMP:20260419T173026
CREATED:20240825T135336Z
LAST-MODIFIED:20240825T135336Z
UID:124-1729429200-1729440000@mysticalparadeofboo.com
SUMMARY:Mystical Parade of Boo Workshop Series 5
DESCRIPTION:The fifth in our five-workshop series. \nLearn from talented artists\, including a cinema makeup expert and a giant puppet-making master.In this workshop series\, you’ll create your very own unique\, handmade pieces\, and have the chance to work as a team to create a large paper-mâché puppet. The best part? You’ll get to carry your masterpiece in the Mystical Parade of Boo\, Galveston’s first Halloween parade\, on October 26\, 2024! \nCost is $50 for all five workshops.
URL:https://mysticalparadeofboo.com/event/mystical-parade-of-boo-workshop-series-5/
LOCATION:The Proletariat\, 2221 Market St. Suite 100\, Galveston\, TX\, 77550\, United States
ATTACH;FMTTYPE=image/jpeg:https://mysticalparadeofboo.com/wp-content/uploads/2024/08/GAC-Collab-1.jpg
ORGANIZER;CN="Galveston Arts Center":MAILTO:information@galvestonartscenter.org
END:VEVENT
END:VCALENDAR