BEGIN:VCALENDAR
VERSION:2.0
PRODID:-//Mystical Parade of Boo - ECPv6.15.20//NONSGML v1.0//EN
CALSCALE:GREGORIAN
METHOD:PUBLISH
X-WR-CALNAME:Mystical Parade of Boo
X-ORIGINAL-URL:https://mysticalparadeofboo.com
X-WR-CALDESC:Events for Mystical Parade of Boo
REFRESH-INTERVAL;VALUE=DURATION:PT1H
X-Robots-Tag:noindex
X-PUBLISHED-TTL:PT1H
BEGIN:VTIMEZONE
TZID:America/Chicago
BEGIN:DAYLIGHT
TZOFFSETFROM:-0600
TZOFFSETTO:-0500
TZNAME:CDT
DTSTART:20230312T080000
END:DAYLIGHT
BEGIN:STANDARD
TZOFFSETFROM:-0500
TZOFFSETTO:-0600
TZNAME:CST
DTSTART:20231105T070000
END:STANDARD
BEGIN:DAYLIGHT
TZOFFSETFROM:-0600
TZOFFSETTO:-0500
TZNAME:CDT
DTSTART:20240310T080000
END:DAYLIGHT
BEGIN:STANDARD
TZOFFSETFROM:-0500
TZOFFSETTO:-0600
TZNAME:CST
DTSTART:20241103T070000
END:STANDARD
BEGIN:DAYLIGHT
TZOFFSETFROM:-0600
TZOFFSETTO:-0500
TZNAME:CDT
DTSTART:20250309T080000
END:DAYLIGHT
BEGIN:STANDARD
TZOFFSETFROM:-0500
TZOFFSETTO:-0600
TZNAME:CST
DTSTART:20251102T070000
END:STANDARD
END:VTIMEZONE
BEGIN:VEVENT
DTSTART;TZID=America/Chicago:20240922T130000
DTEND;TZID=America/Chicago:20240922T160000
DTSTAMP:20260419T223414
CREATED:20240825T134634Z
LAST-MODIFIED:20240826T181430Z
UID:113-1727010000-1727020800@mysticalparadeofboo.com
SUMMARY:Mystical Parade of Boo Workshop Series 1
DESCRIPTION:The first in our five-workshop series. \nLearn from talented artists\, including a cinema makeup expert and a giant puppet-making master.In this workshop series\, you’ll create your very own unique\, handmade pieces\, and have the chance to work as a team to create a large paper-mâché puppet. The best part? You’ll get to carry your masterpiece in the Mystical Parade of Boo\, Galveston’s first Halloween parade\, on October 26\, 2024! \nCost is $50 for all five workshops.
URL:https://mysticalparadeofboo.com/event/mystical-parade-of-boo-workshop-1/
LOCATION:The Proletariat\, 2221 Market St. Suite 100\, Galveston\, TX\, 77550\, United States
ATTACH;FMTTYPE=image/jpeg:https://mysticalparadeofboo.com/wp-content/uploads/2024/08/GAC-Collab-1.jpg
ORGANIZER;CN="Galveston Arts Center":MAILTO:information@galvestonartscenter.org
END:VEVENT
BEGIN:VEVENT
DTSTART;TZID=America/Chicago:20240914T190000
DTEND;TZID=America/Chicago:20240914T210000
DTSTAMP:20260419T223414
CREATED:20240825T134228Z
LAST-MODIFIED:20240825T134228Z
UID:106-1726340400-1726347600@mysticalparadeofboo.com
SUMMARY:Mystical Parade of Boo Workshop Series Orientation
DESCRIPTION:Join the fun and creativity with the Mystical Parade of Boo Workshop Series\, an exciting partnership between Misfits Productions and GAC! Learn from talented artists\, including a cinema makeup expert and a giant puppet-making master.In this workshop series\, you’ll create your very own unique\, handmade pieces\, and have the chance to work as a team to create a large paper-mâché puppet. The best part? You’ll get to carry your masterpiece in the Mystical Parade of Boo\, Galveston’s first Halloween parade\, on October 26\, 2024! Don’t miss this chance to unleash your creativity\, learn new skills\, and be part of a new local tradition! \n\nBuilding Tour 7-8pm\nOrientation Slideshow 8-9pm
URL:https://mysticalparadeofboo.com/event/mystical-parade-of-boo-workshop-series-orientation/
LOCATION:The National Hotel Artist Lofts\, 2221 Market Street\, Galveston\, TX\, 77550\, United States
ATTACH;FMTTYPE=image/jpeg:https://mysticalparadeofboo.com/wp-content/uploads/2024/08/GAC-Collab.jpg
ORGANIZER;CN="Galveston Arts Center":MAILTO:information@galvestonartscenter.org
END:VEVENT
END:VCALENDAR